BEGIN:VCALENDAR
VERSION:2.0
PRODID:-//Sabre//Sabre VObject 4.5.8//EN
CALSCALE:GREGORIAN
BEGIN:VEVENT
UID:sabre-vobject-4c1911d4-8082-4161-a695-56c321afc42b
DTSTAMP:20260421T013651Z
SUMMARY:Barbara Buser – Pionierin der Nachhaltigkeit
DESCRIPTION:von Gabriela Schärer\\nSchweiz 2025\, 120 Min\, Dialekt\, ab e
 twa 12\nDie preisgekrönte Basler Architektin Barbara Buser rettet Gebäud
 e vor dem Abriss und baut sie mit recyceltem Material um. Sie verwandelt e
 hemalige Industrieareale in urbane Lebensräume\, die für einen sorgsamen
  Umgang mit unserer Umwelt und miteinander stehen. So sind in Winterthur\,
  Basel und Zürich öffentliche Räume entstanden\, die zukunftsweisende B
 egegnungsorte sind. Als Frau\, die in einer Männerdomäne erfolgreich ihr
 en eigenen Weg geht\, ist sie ein Vorbild für die junge Generation\, die 
 sich für eine nachhaltigere und gerechtere Welt einsetzt. Barbara Buser i
 st eine Pionierin der Nachhaltigkeit\, die durch ihre Weitsicht\, ihren Du
 rchsetzungswillen und ihre unbändige Schaffenskraft beeindruckt.\nNach de
 r Vorführung vom 23.4. führt Tobias Lenggenhager\, Architekt und Vorstan
 dsmitglied im Verein «Unsere Stadtkaserne»\, ein Gespräch mit Barbara B
 user zu Architektur und Nachhaltigkeit. \nBarbara Buser ist in Frauenfeld
  keine Unbekannte. Im November 2021 hat sie im Rathaus ein fulminantes Pl
 ädoyer für die Erhaltung und Umnutzung der Stadtkaserne gehalten und die
  Idee der Zwischennutzung in Frauenfeld populär gemacht.
LOCATION:Cinema Luna\, Lindenstrasse 10\, 8500 Frauenfeld
DTSTART;TZID=Europe/Zurich:20260423T193000
DTEND;TZID=Europe/Zurich:20260423T193000
ORGANIZER:Cinema Luna
END:VEVENT
END:VCALENDAR
