BEGIN:VCALENDAR
VERSION:2.0
PRODID:-//Sabre//Sabre VObject 4.5.8//EN
CALSCALE:GREGORIAN
BEGIN:VEVENT
UID:sabre-vobject-529df06f-de18-47c8-b91f-696766153cf9
DTSTAMP:20260421T101914Z
SUMMARY:Kulturabend – Gilbert und Oleg
DESCRIPTION:Gilbert &amp\; Oleg spielen 2026 schon 30 Jahre zusammen und si
 nd als Varieté-Künstler in Europa und der Schweiz unterwegs. Ein wunder
 bar schräges Duo\, welches gekonnt die Elemente Komik\, Musik und Zaubere
 i verknüpft.\nDie beiden servieren magisch-komische Delikatessen mit hie
 rarchischen Konflikten gewürzt. Der Gast ist König\, bestimmt die Zusam
 menstellung des Menüs und erlebt eine Verbindung von Theater und Spiellu
 st – mit Humor gepfeffert und Poesie verfeinert. Ein Festschmaus\, bei d
 em kein Auge trocken bleibt.
LOCATION:Gasthaus Schlosshalde\, Mörsburgstrasse 36\, 8404 Reutlingen (Win
 terthur)
DTSTART;TZID=Europe/Zurich:20260430T200000
DTEND;TZID=Europe/Zurich:20260430T220000
ORGANIZER:Gasthaus Schlosshalde
END:VEVENT
END:VCALENDAR
