BEGIN:VCALENDAR
VERSION:2.0
PRODID:-//Sabre//Sabre VObject 4.5.8//EN
CALSCALE:GREGORIAN
BEGIN:VEVENT
UID:sabre-vobject-c8df0f8b-ab7a-45b2-ad87-f194918f905e
DTSTAMP:20260425T033241Z
SUMMARY:Brass Quartett-Konzerte
DESCRIPTION:
LOCATION:evangelische Kirche Erlen\, 8586 Erlen
DTSTART;TZID=Europe/Zurich:20270117T160000
DTEND;TZID=Europe/Zurich:20270117T170000
ORGANIZER:Brass Quartett Thurgau
END:VEVENT
END:VCALENDAR
