BEGIN:VCALENDAR
VERSION:2.0
PRODID:-//Sabre//Sabre VObject 4.5.8//EN
CALSCALE:GREGORIAN
BEGIN:VEVENT
UID:sabre-vobject-2ab9ae54-04bf-4642-8e9d-0af6d5b4c053
DTSTAMP:20260423T120034Z
SUMMARY:Prinzessin Isabella
DESCRIPTION:Isabella ist eine echte Prinzessin – aber immer nur höflich 
 und still? Viel zu langweilig! Kein Klettern\, kein Toben\, nicht mal gen
 üsslich in der Nase bohren. Als ihre Krone im Goldfischteich landet\, ver
 bannt der König sie in die Küche: schrubben\, polieren\, Sahne schlagen.
  Doch Isabella entdeckt dort ihre Freiheit – und denkt nicht daran\, zur
 ückzukehren.\\nMitreißende Musik\, witzige Überraschungen und jede Meng
 e Mitmach-Spaß machen dieses Sitzkissenkonzert zu einem königlichen Verg
 nügen über Regeln\, Rebellion und den eigenen Weg.\nGeschichtenquintett 
 Kolibri\\nPrisca Maier &amp\; Cornelius Nieden \\nSchauspiel\nMit finanzi
 eller Unterstützung durch den Kanton Thurgau Lotteriefonds.
LOCATION:Apollo Kulturhaus Kreuzlingen\, Konstanzerstrasse 32\, 8280 Kreuzl
 ingen
DTSTART;TZID=Europe/Zurich:20260503T140000
DTEND;TZID=Europe/Zurich:20260503T150000
ORGANIZER:Bodensee Philharmonie
END:VEVENT
END:VCALENDAR
