BEGIN:VCALENDAR
VERSION:2.0
PRODID:-//Sabre//Sabre VObject 4.5.8//EN
CALSCALE:GREGORIAN
BEGIN:VEVENT
UID:sabre-vobject-4eb5e0a5-3ac1-4659-89bc-acaa099741ff
DTSTAMP:20260421T064654Z
SUMMARY:Kloster & Natur
DESCRIPTION:Volkstümliches Kurzkonzert im Oberen Chor\\nSonntag\, 26. Apri
 l 2026\, 11.45 Uhr bis 12.15 Uhr\\nDie Gäste nehmen Platz im historischen
  Chorgestühl und haben Blick auf die 260jährige Aichgasserorgel mit ihre
 n 2'265 Orgelpfeifen. Marie-Louise Eberhard an der Orgel und Köbi Hug mit
  Naturjodel präsentieren volkstümliche\, stimmungsvolle Klänge. Orgel u
 nd Jodel wechseln sich ab und beflügeln sich gemeinsam.\\nKonzertdauer: c
 a. 30 Minuten.\\n\\n3-Gänge-Menü Kloster &amp\; Natur\\nSonntag\, 26. Ap
 ril 2026\, 12.15 Uhr bis 14.00 Uhr\\nSpargelsalat mit Bärlauch-Dressing\,
  Salatbouquet\, Sprossen und Kernen\\n***\\nSchmorbraten vom Dussnanger-Wa
 sserbüffel mit Tannenschössli-Jus\, cremige Ribelmais-Polenta und Saison
 gemüse\nVegetarische Variante\\nHausgemachte Kartoffelschnitte mit Kloste
 rkäse\, Pilgrim-Schaum und Saisongemüse\\n***\\nTriple-Noir Brownie mit 
 Erdbeersorbet\, Mandelrahm und frischen Beeren \nKonzert und 3-Gänge-Men
 ü\\nmit Wasser von der Klosterquelle: CHF 70.00\\n\\nKurzwanderung mit Be
 rgbauer Köbi Hug\\nSonntag\, 26. April 2026\, 14.00 Uhr bis 15.00 Uhr\\nB
 odenständig\, witzig und charmant führt der Bergbauer Köbi Hug die Wand
 ergruppe durchs Tannzapfenland. Er macht Halt bei Mehlprimeln\, Kuckucksne
 lken und Knabenkraut oder Fichten\, Buchen\, Tannen und Föhren. \nDie Wa
 nderung dauert rund 60 Minuten. \\nSie findet bei jeder Witterung statt.\
 nDie Teilnahme an der Wanderung ist kostenlos\\nund eine Anmeldung nicht e
 rforderlich.\n 
LOCATION:Restaurant Kloster Fischingen\, Kloster\, 8376 Fischingen
DTSTART;TZID=Europe/Zurich:20260426T114500
DTEND;TZID=Europe/Zurich:20260426T150000
ORGANIZER:Kultur Kloster Fischingen
END:VEVENT
END:VCALENDAR
