BEGIN:VCALENDAR
VERSION:2.0
PRODID:-//Sabre//Sabre VObject 4.5.8//EN
CALSCALE:GREGORIAN
BEGIN:VEVENT
UID:sabre-vobject-edfd6f19-dc26-4732-83d4-14b7706c8efc
DTSTAMP:20260421T070648Z
SUMMARY:Kulinarischer Event am Muttertag
DESCRIPTION:Menü:\\nSalat aus eingelegtem Gemüse\, Ziegenfrischkäse und 
 Gartenkräutern\\n***\\nChampignon-Essenz mit gerösteten Waldpilzen\, Erb
 sen und Blüten\\n***\\nDuett vom Rind mit Kartoffelstock und Spargel-Gem
 üse-Ragout\nVegetarische Variante:\\nSpargel-Ravioli mit grünem Spargel\
 , Radieschen und Frühlingslauch\\n***\\nErdbeer-Minze-Salat mit Vanillegl
 ace und Mandelrahm
LOCATION:Restaurant Kloster Fischingen\, Kloster\, 8376 Fischingen
DTSTART;TZID=Europe/Zurich:20260510T114500
DTEND;TZID=Europe/Zurich:20260510T114500
ORGANIZER:Kultur Kloster Fischingen
END:VEVENT
END:VCALENDAR
