BEGIN:VCALENDAR
VERSION:2.0
PRODID:-//Sabre//Sabre VObject 4.5.8//EN
CALSCALE:GREGORIAN
BEGIN:VEVENT
UID:sabre-vobject-e2ce17db-0b40-4fbb-b52f-6a4b9322f75c
DTSTAMP:20260421T064706Z
SUMMARY:Kitchenparty
DESCRIPTION:Das Kloster Fischingen lädt ein\, den Genuss in einer einzigar
 tigen Atmosphäre zu zelebrieren und dem Alltag für ein paar Augenblicke 
 zu entfliehen. Verwöhnende\, kulinarische Highlights.\nDer Abend wird mus
 ikalisch begleitet\, was das kulinarische Erlebnis bereichert.\nSobald die
  Details zu den Genussstationen und den Gastköchen feststehen\, werden di
 ese hier bekannt geben. 
LOCATION:Restaurant Kloster Fischingen\, Kloster\, 8376 Fischingen
DTSTART;TZID=Europe/Zurich:20261024T170000
DTEND;TZID=Europe/Zurich:20261024T220000
ORGANIZER:Kultur Kloster Fischingen
END:VEVENT
END:VCALENDAR
