BEGIN:VCALENDAR
VERSION:2.0
PRODID:-//Sabre//Sabre VObject 4.5.8//EN
CALSCALE:GREGORIAN
BEGIN:VEVENT
UID:sabre-vobject-2050d288-ac51-4668-a00d-e9656fa2c975
DTSTAMP:20260421T064707Z
SUMMARY:Wildabend
DESCRIPTION:Die Bläserformation – Buuremusig Sirnach – mit 13 Musikant
 innen und Musikanten begleitet durch den Abend.\nApéro\\nWaldpilze Crème
 suppe im Tässchen serviert\\nSpinattartelettes mit Randen-Frischkäse\\nF
 ischinger Rauchforellentatar mit gepickeltem Gemüse\\nRöllchen vom Wilds
 chweinschinken und süss-saurem Gemüse\nMenü\\nFischinger Rehterrine mit
  Kabis\, Brombeer-Marmelade und Nüssli-Salat\\n***\\nPastinakensuppe mit 
 kandierten Nüsse\\n***\\nZweierlei vom Hirsch mit Macardo Whisky-Früchte
 n Polentaschnitte und Herbstgemüse\nVegetarische Variante\\nKürbis Ravio
 li mit Rosenkohl\, Marroni und Johannisbeeren\\n***\\nDuett vom Rüebli mi
 t Vanille und Tannenhonig
LOCATION:Restaurant Kloster Fischingen\, Kloster\, 8376 Fischingen
DTSTART;TZID=Europe/Zurich:20261107T173000
DTEND;TZID=Europe/Zurich:20261107T173000
ORGANIZER:Kultur Kloster Fischingen
END:VEVENT
END:VCALENDAR
