BEGIN:VCALENDAR
VERSION:2.0
PRODID:-//Sabre//Sabre VObject 4.5.8//EN
CALSCALE:GREGORIAN
BEGIN:VEVENT
UID:sabre-vobject-59bd3526-1ee3-468b-9afb-970007fc3ec8
DTSTAMP:20260421T064739Z
SUMMARY:Wildabend
DESCRIPTION:Musik wird durch den kulinarischen Abend begleiten.\nApéro\\nL
 auch Quiche\\nWaldpilzsuppe im Tässchen\\nTatar vom Swiss Alpine Lachs mi
 t Waldkräuter-Crème fraîche\\nWildbratwurst im Lauchbrötli und Kabis\n
 Menü\\nRöllchen vom Hirschschinken und Preiselbeeren auf Linsensalat\\n*
 **\\nKürbiscrèmesuppe mit Crème fraîche und Blüten\\n***\\nRosa gebra
 tene Fischinger Rehschnitzel mit Pastinakenpüree und Rüebli-Wirz-Gemüse
 \nVegetarische Variante\\nSpinatrisotto mit Randen-Rose\, Sbrinz und Herbs
 tkräutern\\n***\\nBirnenstrudel mit Pralinencrème
LOCATION:Restaurant Kloster Fischingen\, Kloster\, 8376 Fischingen
DTSTART;TZID=Europe/Zurich:20261121T173000
DTEND;TZID=Europe/Zurich:20261121T173000
ORGANIZER:Kultur Kloster Fischingen
END:VEVENT
END:VCALENDAR
