BEGIN:VCALENDAR
VERSION:2.0
PRODID:-//Sabre//Sabre VObject 4.5.8//EN
CALSCALE:GREGORIAN
BEGIN:VEVENT
UID:sabre-vobject-fd464bea-26b7-4616-9ee8-61f48fac2aa8
DTSTAMP:20260421T064706Z
SUMMARY:Weihnachtsmarkt im Kloster
DESCRIPTION:Am Weihnachtsmarkt auf dem Klostergelände präsentiert das Klo
 ster Fischingen:\\nRegionale Produkte + Kulinarik + Glühwein + Kunsthandw
 erk + Chlaus\nAm Sonntag\, 29. November 2026\, verwandelt sich der Kloster
 hof Fischingen von 11.00 bis 17.00 Uhr in ein winterlich weihnachtliches W
 underland. Der beliebte Weihnachtsmarkt lädt alle Besucherinnen und Besuc
 her ein\, die festliche Atmosphäre zu geniessen und sich von einer Vielfa
 lt an regionalen Produkten und Kunsthandwerk verzaubern zu lassen.\nDer we
 ihnachtliche Duft\, das knisternde Feuer in den Feuerschalen und die histo
 rische Kulisse des Klosters verleihen dem Markt den unverkennbaren Charme.
LOCATION:Kloster Fischingen\, 8376 Fischingen
DTSTART;TZID=Europe/Zurich:20261129T110000
DTEND;TZID=Europe/Zurich:20261129T170000
ORGANIZER:Kultur Kloster Fischingen
END:VEVENT
END:VCALENDAR
