BEGIN:VCALENDAR
VERSION:2.0
PRODID:-//Sabre//Sabre VObject 4.5.8//EN
CALSCALE:GREGORIAN
BEGIN:VEVENT
UID:sabre-vobject-f1c2a632-ef17-4d54-956a-24c55c17a8ab
DTSTAMP:20260425T021604Z
SUMMARY:Gruseliges und Geheimnisvolles - Ein Märchenabend für Erwachsene
DESCRIPTION:Schon Kinder lieben es sich zu gruseln und den Schauer zu spür
 en - so geht es auch uns Erwachsenen. Die Teilnehmenden können sich sich 
 vom Thurgauer Märchenkreis mit auf eine wunderliche und abenteuerliche Re
 ise durch dunkle und geheimnisvolle Märchen nehmen lassen.
LOCATION:Regionalbibliothek Weinfelden\, Freiestrasse 4\, 8570 Weinfelden
DTSTART;TZID=Europe/Zurich:20261104T193000
DTEND;TZID=Europe/Zurich:20261104T210000
ORGANIZER:Regionalbibliothek Weinfelden
END:VEVENT
END:VCALENDAR
