BEGIN:VCALENDAR
VERSION:2.0
PRODID:-//Sabre//Sabre VObject 4.5.8//EN
CALSCALE:GREGORIAN
BEGIN:VEVENT
UID:sabre-vobject-af624494-44a2-4d9c-b272-a48de73172be
DTSTAMP:20260421T031956Z
SUMMARY:Aaron Wegmann & Band
DESCRIPTION:Aaron Wegmann vereint eine charaktervolle Stimme\, stilsicheres
  Gitarrenspiel und Songs mit viel Substanz und Tiefgang. Seine Musik ist n
 icht an einen bestimmten Stil gebunden\, sondern von einer persönlichen u
 nd organischen Atmosphäre geprägt. Er \\nlässt Harmonien\, Melodien\, 
 Textfetzen zu ihm kommen. Seine Lyrics sind ehrlich\, oft gesellschaftskri
 tisch\, immer pointiert.\nZusammen mit seiner Band - Felix Müller (Bass)\
 ; Seraphim von Werra (Drums) - spannt der Zürcher Singer-Songwriter musik
 alische Bögen zwischen ungeschminktem Rock und elegantem Pop — mal dem 
 Zeitgeist entsprechend\, dann aufreizend monoton bis hin zu unbeschwerten 
 und doch nachdenklichen Songs. Dabei steht die Spielfreude immer im Vorder
 grund.
LOCATION:Eisenwerk Beiz\, Industriestrasse 23\, 8500 Frauenfeld
DTSTART;TZID=Europe/Zurich:20260423T201500
DTEND;TZID=Europe/Zurich:20260423T221500
ORGANIZER:Kultur im Eisenwerk
END:VEVENT
END:VCALENDAR
