BEGIN:VCALENDAR
VERSION:2.0
PRODID:-//Sabre//Sabre VObject 4.5.8//EN
CALSCALE:GREGORIAN
BEGIN:VEVENT
UID:sabre-vobject-f6259e6d-afbe-49d8-825a-731d83b043e4
DTSTAMP:20260420T230320Z
SUMMARY:Sheen Trio
DESCRIPTION:Feingliedrig und nuancenreich verweben sich Stränge aus Jazz\,
  Rock und experimenteller Musik mit musikalischen Einflüssen aus dem Iran
 \, der Heimat der Klarinettistin und Komponistin Shabnam Parvaresh.\nIhre 
 musikalische Karriere begann in ihrer Heimatstadt Teheran am Teheraner Sym
 phonie Orchester\, 2014 kam sie nach Deutschland\, um Jazz-Klarinette zu s
 tudieren. Fünf Jahre später gründete sie das Sheen Trio als Amalgam all
  ihrer musikalischen Einflüsse.\nDer Trio-Klang gleicht einer musikalisch
 en Migration\, bei der ruhig und reflektiert\, mitunter aber auch aufregen
 d impulsiv neu gefundene Orte erkundet werden. Im Zusammenspiel mit Ula Ma
 rtyn-Ellis an der Gitarre und Philipp Buck am Schlagzeug entstehen experim
 entierfreudige Kompositionen\, in welchen Klarinettistin Shabnam Parvaresh
  ihre besonderen Geschichten erzählt: Von schlechter Internet-Verbindung 
 in den 1990er-Jahren\, von Kindheitserinnerungen und Freiheitskämpfen im 
 Iran. \nDer Name "Sheen Trio" bezieht sich auf das "Sheen" den sechzehnte
 n Buchstaben des persischen Alphabets. Der Name der Bandleaderin Shabnam P
 arvaresh beginnt mit einem «Sheen". \nVor dem Konzert essen: An diesem A
 bend gibt es in der Beiz Thai-Znacht. Besucher:innen geniessen ein frisch 
 gekochtes Buffet sowie eine Vorspeise. 
LOCATION:Eisenwerk Theater\, Industriestrasse 23\, 8500 Frauenfeld
DTSTART;TZID=Europe/Zurich:20260422T201500
DTEND;TZID=Europe/Zurich:20260422T223000
ORGANIZER:Kultur im Eisenwerk
END:VEVENT
END:VCALENDAR
