BEGIN:VCALENDAR
VERSION:2.0
PRODID:-//Sabre//Sabre VObject 4.5.8//EN
CALSCALE:GREGORIAN
BEGIN:VEVENT
UID:sabre-vobject-0c4f754d-3ecf-4249-b187-08f020bcf8e7
DTSTAMP:20260421T084147Z
SUMMARY:Robotik für Einsteiger:innen
DESCRIPTION:Die Teilnehmenden erlernen die Anfänge der Robotik und bauen m
 it Lego Spike ihr eigenes Fahrzeug.
LOCATION:Talenticum\, Bahnhofstrasse 40a\, 8590 Romanshorn
DTSTART;TZID=Europe/Zurich:20260619T160000
DTEND;TZID=Europe/Zurich:20260619T173000
ORGANIZER:Talenticum
END:VEVENT
END:VCALENDAR
