BEGIN:VCALENDAR
VERSION:2.0
PRODID:-//Sabre//Sabre VObject 4.5.8//EN
CALSCALE:GREGORIAN
BEGIN:VEVENT
UID:sabre-vobject-0943ea1c-3c3c-40ee-abbe-d862847bb0f2
DTSTAMP:20260425T014126Z
SUMMARY:Tripkid (DE)
DESCRIPTION:TRiPKiD schreiben den Soundtrack für eine Generation zwischen 
 Bindungsangst und der Suche nach Liebe\, zwischen Therapieplatz und Boxclu
 b\, der an manchen Tagen der Kopf zu platzen droht. Die Songs ihres im Mä
 rz 2025 erschienenen gleichnamigen Debutalbums brechen konsequent mit musi
 kalischem Schubladendenken und pendeln mühelos zwischen Pop-Punk\, Rap\, 
 düsteren Synthie-Sounds\, akustischen Balladen und unerwartet harten Gita
 rren\, weisen allesamt jedoch immer Hooklines auf\, die sich umgehend im O
 hr der Zuhörenden festsetzen. In ihren Texten verhandeln TRiPKiD Themen w
 ie Tabu-Brüche\, Romantik oder den dystopischen Hang zur Selbstzerstörun
 g. Sechs Monate nach Veröffentlichung verzeichnet das Album bereits über
  1\,5 Mio Streams – Tendenz steigend.
LOCATION:Gare de Lion\, Silostrasse 10\, 9500 Wil SG
DTSTART;TZID=Europe/Zurich:20260508T203000
DTEND;TZID=Europe/Zurich:20260509T010000
ORGANIZER:Kulturbahnhof Gare de Lion
END:VEVENT
END:VCALENDAR
