BEGIN:VCALENDAR
VERSION:2.0
PRODID:-//Sabre//Sabre VObject 4.5.8//EN
CALSCALE:GREGORIAN
BEGIN:VEVENT
UID:sabre-vobject-12ce1fc8-f781-4946-9fc4-403a96dfe386
DTSTAMP:20260421T032844Z
SUMMARY:Dai Kimoto & his Swing Kids
DESCRIPTION:Die jungen Musikerinnen und Musiker spielen mit hoher Präzisio
 n und spürbarer Freude. Dai Kimoto hat schon die halbe Welt bereist mit s
 einem Ensemble – ein schwungvoller Abend mit vielen bekannten Melodien a
 us dem klassischen Jazz.
LOCATION:Evang. Kirche\, Wilerstrasse 20\, 9242 Oberuzwil
DTSTART;TZID=Europe/Zurich:20260423T200000
DTEND;TZID=Europe/Zurich:20260423T213000
ORGANIZER:Donnerstagsgesellschaft
END:VEVENT
END:VCALENDAR
