BEGIN:VCALENDAR
VERSION:2.0
PRODID:-//Sabre//Sabre VObject 4.5.8//EN
CALSCALE:GREGORIAN
BEGIN:VEVENT
UID:sabre-vobject-24147951-4f86-4581-89df-8fb9c0ff9813
DTSTAMP:20260425T005817Z
SUMMARY:Welt Taiji und Qigong Tag in Wil SG
DESCRIPTION:Eingeladen sind alle\, unabhängig von Alter und Vorkenntnissen
 . Beim offenen Üben oder bei einer der Vorführungen können diese medita
 tiven Bewegungsformen kennengelernt und ausprobiert werden.\nBei trockenem
  Wetter: auf der Weierwiese in Wil SG.\nBei nassem Wetter: Sporthalle Klos
 terweg 15 in Wil SG.\n \nFranziska Fischer\, Qigong Lehrerin\\nBeatrice G
 emperli-Link\, qigong-wil.ch\\nDagmar Mohn\, qigong-aadorf.ch\\nMiriam Kel
 ler\, miriamkeller.ch\\nLukas Häne\, Tai Chi Club Wil
LOCATION:Weierwiese\, 9500 Wil SG
DTSTART;TZID=Europe/Zurich:20260425T140000
DTEND;TZID=Europe/Zurich:20260425T160000
ORGANIZER:Tai Chi Club Wil
END:VEVENT
END:VCALENDAR
