BEGIN:VCALENDAR
VERSION:2.0
PRODID:-//Sabre//Sabre VObject 4.5.8//EN
CALSCALE:GREGORIAN
BEGIN:VEVENT
UID:sabre-vobject-d93ddf94-70db-4ef4-a991-839bc6550533
DTSTAMP:20260425T030430Z
SUMMARY:Tanzfest Winterthur 2026
DESCRIPTION:Mit dem diesjährigen Motto «Winterthur bewegt sorgfältig» w
 idmet sich das Tanzfest Winterthur dem achtsamen Umgang mit dem eigenen K
 örper und dem Umfeld durch Bewegung. Im Fokus stehen dabei choreografisch
 e Arbeiten\, welche Sensibilität\, Nachhaltigkeit und soziale Verantwortu
 ng thematisieren – sei es im urbanen Raum\, im Miteinander oder in Bezug
  auf die Mitschöpfung.\nDas Motto ist Programm: Die tänzerische Performa
 nce “Slowed Landscapes” von Moni Wespi lässt menschliche Körper und 
 urbane Landschaften miteinander verschmelzen\, während die Tanzkompanie C
 LE mit ihrem zeitgenössischen Tanztheater “Society” das fragile Gleic
 hgewicht zwischen Individuum und Gesellschaft interpretieren.\nZwei weiter
 e Highlights des diesjährigen Tanzfests in Winterthur bilden zum einen di
 e vom Bundesamt für Kultur ausgezeichnete Performance “Le Chef” von C
 lara Delorme. Zum anderen gibt es von der compagnie O. einen nächtlichen 
 Walk “POLEIDOSKOP” zu erleben\, welcher sich der hyperintensiven Sinne
 swahrnehmung widmet. \nNeben all diesen Performances zeigen Tanzschulen a
 us Winterthur und Umgebung mitreissende Shows und verschiedenste Tanzstile
  können in Kursen ausprobiert werden. Zudem wird eine inklusive Disco fü
 r alle sowie spannende Erlebnisse beim Silent Ecstatic Dance angeboten.\nA
 uch das “All Style Battle For Each Other” und das “All eyes on you!
 ” sind beides Formate\, die in diesem Jahr natürlich nicht fehlen dürf
 en: Kinder und Jugendliche demonstrieren im Freien ihre Freestyle-Künste 
 und zeigen tänzerische Choreografien auf der Theaterbühne. \nWorauf sic
 h das Publikum besonders freuen darf: In Kooperation mit dem FC Winterthur
  findet am Freitag\, 08. Mai\, ein öffentlicher Flashmob auf dem Neumarkt
 platz statt. Nach einem kurzen Workshop sind alle Fussball- und Tanzbegeis
 terten herzlichst dazu eingeladen\, gemeinsam mit den Spieler:innen des FC
  Winterthurs eine einfache Tanzsequenz zu tanzen.\nPoetografie kann auch a
 uf Tanz treffen: Diese faszinierende Kombination wird anhand sogenannter '
 Eydus' zum Leben erweckt. Eydus sind kurze Texte zu unterschiedlichen Orte
 n in Winterthur\, welche im Mai live gelesen und tänzerisch interpretiert
  werden. \nWie in der Literatur\, so darf auch im Film gestaunt werden: 
 “Dance On Screen” präsentiert verschiedenste Kurz-Tanzfilme aus aller
  Welt\, die unter die Haut gehen. Und bei einer öffentlichen Preisverleih
 ung werden die drei besten\, von Schulklassen kreierten\, Videos der “Ta
 nzChallenge” prämiert.\nDas Tanzfest Winterthur verfolgt also die Visio
 n eines bewegten Miteinanders für und mit unterschiedlichen Kulturen dur
 ch Tanz. Die jährlich steigenden Besucher:innenzahlen festigen den Ruf de
 s Tanzfest Winterthurs als einzigartige Plattform für professionelle Tanz
 schaffende wie auch für lokale Tanzcommunities. Damit ermöglicht das Tan
 zfest Winterthur spannende Auftrittsmöglichkeiten und Begegnungen mit ein
 em vielseitig interessierten Publikum. Ein Fest für alle Generationen.\n\
 \nWinterthur ist Teil des nationalen Tanzfests\, welches in über 30 Städ
 ten und Gemeinden der ganzen Schweiz gleichzeitig gefeiert wird. Das Tanzf
 est Winterthur sensibilisiert für die Vielfalt künstlerischer und kult
 ureller Tanzformen und -arten. Es bringt Menschen in Winterthur zusammen u
 nd ermöglicht Begegnungen\, in denen Tanz erlebt und partizipativ mitges
 taltet wird.\n 
LOCATION:Altstadt\, 8400 Winterthur
DTSTART;TZID=Europe/Zurich:20260509T000000
DTEND;TZID=Europe/Zurich:20260509T000000
ORGANIZER:Das Tanzfest Winterthur
END:VEVENT
END:VCALENDAR
