BEGIN:VCALENDAR
VERSION:2.0
PRODID:-//Sabre//Sabre VObject 4.5.8//EN
CALSCALE:GREGORIAN
BEGIN:VEVENT
UID:sabre-vobject-3d41475f-de68-4a94-a82d-b9b8652532f1
DTSTAMP:20260425T002227Z
SUMMARY:Schreiber vs. Schneider - Parcours d'Amour
DESCRIPTION:Lange Jahre des Zusammenlebens sind kein 100-Meter-Sprint\, son
 dern ein 3000-Meter Hindernislauf mit Hürden und Wassergräben\, mit Bauc
 hlandungen und Seitenstechen.\nSchreiber vs. Schneider dribbeln sich auf d
 er Bühne einmal sehr spontan und authentisch durch die Tücken der Zweisa
 mkeit.\nIhr Fazit: Wer liebt\, sollte auch mal Luft holen und vor allem Hu
 mor haben. Denn Selbstironie ist der beste Energydrink für jeden Paarcour
 s d'amour.
LOCATION:Evangelisches Kirchgemeindehaus\, 9242 Oberuzwil
DTSTART;TZID=Europe/Zurich:20260604T200000
DTEND;TZID=Europe/Zurich:20260604T220000
ORGANIZER:Donnerstagsgesellschaft
END:VEVENT
END:VCALENDAR
