BEGIN:VCALENDAR
VERSION:2.0
PRODID:-//Sabre//Sabre VObject 4.5.8//EN
CALSCALE:GREGORIAN
BEGIN:VEVENT
UID:sabre-vobject-b4e363f4-f0f1-4326-9c8b-00757226c8a9
DTSTAMP:20260424T211531Z
SUMMARY:Melancholic Wave: Resplandor (PER/NL) + Grundeis (DE)
DESCRIPTION:Grundeis drown with multilayered guitars in a melancholic abyss
  driven by pulsating beats and haunting vocals.\nResplandor is a legendary
  shoegaze band now based in the Netherlands but originally hailing from Li
 ma\, Peru. They blend shoegaze with post‑punk and post‑rock elements.
LOCATION:Horstklub\, Kirchstrasse 1\, 8280 Kreuzlingen
DTSTART;TZID=Europe/Zurich:20260425T213000
DTEND;TZID=Europe/Zurich:20260426T005900
ORGANIZER:Horstklub 
END:VEVENT
END:VCALENDAR
