BEGIN:VCALENDAR
VERSION:2.0
PRODID:-//Sabre//Sabre VObject 4.5.8//EN
CALSCALE:GREGORIAN
BEGIN:VEVENT
UID:sabre-vobject-a173dc3a-f767-4371-91c9-cb121c2f92a9
DTSTAMP:20260421T143441Z
SUMMARY:Fidibus präsentiert: Aschenputtel
DESCRIPTION:Fidibus kennt sie alle: Feen\, Hexen\, Prinzen\, Kobolde\, Zofe
 n… und selbstverständlich auch Aschenputtel – und damit das wohl roma
 ntischste Märchen aller Zeiten! Und wenn Fidibus eine Geschichte erzählt
 \, dann darf der Spass nicht fehlen. So entführt er das Publikum dieses M
 al mit seinem fröhlichen «Hokuspokus» und dem glitzernden Zauberbuch in
  das Märchen vom verlorenen Schuh…\nFidibus blutet das Herz. Denn seit 
 dem Tod ihrer geliebten Mutter hat Aschenputtel ihr bezauberndes Lachen ve
 rloren. Als wäre das nicht schon genug\, haben es ihre boshafte Stiefmutt
 er und die selbstgefällige Stiefschwester auf sie abgesehen: Tagein\, tag
 aus muss sie waschen\, putzen\, kochen und sogar in der Küche vor dem Ofe
 n schlafen. Und wird deshalb bei jeder Gelegenheit als «Aschenputtel» ve
 rspottet.\nAuf der anderen Seite der Stadt lebt ein zuweilen genervter Pri
 nz. Sein Vater\, der König\, sorgt sich so sehr um sein Wohl\, dass er ih
 m nicht einmal einen Ausritt mit seinem Lieblingspferd erlaubt. Doch: Erl
 ösung naht. Damit der Prinz eines Tages das Erbe seines Vaters antreten d
 arf\, muss er vor Fidibus und dem ganzen Volk die königliche Eignungsprü
 fung ablegen.\nUnd weiter? So viel sei verraten: Ein verlorener Schuh verd
 reht dem Prinzen den Kopf. Wobei: Sind es nicht eher Anmut\, Herzlichkeit 
 und Durchhaltevermögen? Oder tierische Freunde\, drei Zaubernüsse und de
 r Wunsch nach Freiheit? Oder alles zusammen? In der Geschichte von Tom Bau
 mann und Mario Moe Schelbert und unter der Regie von Matthias Keilich verw
 andelt sich – auch dank Live-Musik – der grimmsche Klassiker auf magis
 che Weise in ein herzerwärmendes Märchentheater für Klein und Gross.\nS
 prache: Mundart\\nTüröffnung 30 Minuten vor Vorstellungsbeginn\\nDauer: 
 ca. 70 Minuten (ohne Pause)\nFür einen Tagesausflug in den grossen Sommer
 ferien: \\nAttraktive Kombi-Tickets mit Zoo- und Musicaleintritt erhältl
 ich.
LOCATION:Knies Kinderzoo\, Oberseestrasse 36\, 8640 Rapperswil-Jona
DTSTART;TZID=Europe/Zurich:20260712T110000
DTEND;TZID=Europe/Zurich:20260712T121000
ORGANIZER:Balzer Event GmbH
END:VEVENT
END:VCALENDAR
