BEGIN:VCALENDAR
VERSION:2.0
PRODID:-//Sabre//Sabre VObject 4.5.8//EN
CALSCALE:GREGORIAN
BEGIN:VEVENT
UID:sabre-vobject-0e6b59c6-ee9f-4f93-8f63-996b2ac5439a
DTSTAMP:20260421T024807Z
SUMMARY:Konstanz singt!
DESCRIPTION:"Konstanz singt" verwandelt einen Saal voller Menschen in einen
  Chor-für-einen-Abend – ganz ohne Probenstress\, ohne Notenpflicht und 
 völlig unabhängig von Chorerfahrung.\nOb bereits mit Gesangserfahrung od
 er bisher nur heimlich unter der Dusche – dieser Abend ist für alle\, d
 ie Musik lieben und das Gänsehautgefühl des gemeinsamen Singens erleben 
 möchten. In nur zwei Stunden wird gemeinsam ein mitreißendes Lied erarbe
 itet – mit viel Spaß\, Energie und garantiertem Mitsing-Fieber.
LOCATION:Kulturladen Konstanz\, Joseph-Belli-Weg 5\, 78467 Konstanz
DTSTART;TZID=Europe/Zurich:20261015T200000
DTEND;TZID=Europe/Zurich:20261015T200000
ORGANIZER:Kulturladen Konstanz e. V.
END:VEVENT
END:VCALENDAR
