BEGIN:VCALENDAR
VERSION:2.0
PRODID:-//Sabre//Sabre VObject 4.5.8//EN
CALSCALE:GREGORIAN
BEGIN:VEVENT
UID:sabre-vobject-7d6ca749-ed66-4098-b8c8-6adef619429a
DTSTAMP:20260425T030433Z
SUMMARY:Das Kriminal Dinner Eine Leiche im Louvre
DESCRIPTION:Doch bei diesem Krimidinner ist alles denkbar. Denn der Täter 
 befindet sich noch im Gebäude. So ist es an den Gästen\, diesen Fall zu 
 lösen\, denn die hiesige Polizei ist immer noch mit dem Auffinden der „
 Mona Lisa“ beschäftigt. 
LOCATION:Kantonsschule Kreuzlingen\, Pestalozzistrasse\, 8590 Romanshorn
DTSTART;TZID=Europe/Zurich:20261121T190000
DTEND;TZID=Europe/Zurich:20261121T190000
ORGANIZER:Kornhaus Romanshorn
END:VEVENT
END:VCALENDAR
