BEGIN:VCALENDAR
VERSION:2.0
PRODID:-//Sabre//Sabre VObject 4.5.8//EN
CALSCALE:GREGORIAN
BEGIN:VEVENT
UID:sabre-vobject-d25433ea-897e-4990-b468-7d33ebc66ba0
DTSTAMP:20260423T120039Z
SUMMARY:Adams Äpfel
DESCRIPTION:Adams Äpfel - so nennt Landpfarrer Ivan die Äpfel am kirchlic
 hen Apfelbaum\, seit Adam sich die Aufgabe gestellt hat\, aus ihnen einen 
 Apfelkuchen zu backen. Der Neonazi Adam muss - wie der Vergewaltiger Gunna
 r und der Tankstellenräuber Khalid - nach seinem Gefängnisaufenthalt an 
 einem Resozialisierungsprogramm teilnehmen\, das Pfarrer Ivan mit missiona
 rischem Eifer leitet.\nAuf den ersten Blick ein überzeugter Gutmensch\, e
 ntpuppt sich Ivans Barmherzigkeit bald als Besessenheit. Deshalb beschlies
 st Adam\, Ivans Sicht der Dinge einen Schuss böse Realität zu verpassen
 …\nDer Publikumshit des Kult-Regisseurs Anders Thomas Jensen („Dänisc
 he Delikatessen“) ist eine bissig-schwarze Komödie über menschliche Sc
 hwächen und göttliche Willkür.\n \nDänemark 2005 | Komödie | 94 Min.
  | ab 16 J. (FSK\, D) | OV/d\nBuch und Regie: Anders Thomas Jensen\nMit: M
 ads Mikkelsen\, Ulrich Thomsen\n \nDie Bar öffnet um 19:00 Uhr
LOCATION:Apollo Kulturhaus Kreuzlingen\, Konstanzerstrasse 32\, 8280 Kreuzl
 ingen
DTSTART;TZID=Europe/Zurich:20260603T200000
DTEND;TZID=Europe/Zurich:20260603T200000
ORGANIZER:Filmforum Kreuzlingen und Konstanz (KuK)
END:VEVENT
END:VCALENDAR
