BEGIN:VCALENDAR
VERSION:2.0
PRODID:-//Sabre//Sabre VObject 4.5.8//EN
CALSCALE:GREGORIAN
BEGIN:VEVENT
UID:sabre-vobject-20f28cf7-3553-45ac-a8bd-e8544118056d
DTSTAMP:20260423T115928Z
SUMMARY:Nouvelle Vague
DESCRIPTION:Er bricht mit allen Regeln der Filmproduktion. Was\, wo und ob 
 überhaupt gedreht wird\, entscheidet Godard spontan am Morgen im Bistrot.
  „À bout de souffle“ schreibt Geschichte\, wird zu einem Hauptwerk de
 r französischen Nouvelle Vague und beeinflusst das Weltkino nachhaltig.\n
 Richard Linklaters Spielfilm „Nouvelle Vague“ erzählt von der Entsteh
 ung von Jean-Luc Godards bahnbrechendem Meisterwerk über die Amour fou ei
 nes Kleinkriminellen mit einer jungen Amerikanerin. Gedreht in Schwarz-Wei
 ss\, bietet er Einblicke in einen Wendepunkt in der Geschichte des Kinos u
 nd in der Karriere des zuvor als Filmkritiker tätigen Regisseurs Godard.\
 n„Novelle Vague“ hat zahlreiche internationale Preise gewonnen\, ist h
 erausragend gespielt und taucht tief in die Atmosphäre und das Lebensgef
 ühl im Paris von 1959 ein. Eine mitreissende Hommage an Godards ikonische
 s Werk – und eine unwiderstehliche Liebeserklärung ans Kino.\n \nFrank
 reich 2025 | Drama\, Komödie | 107 Min. | ab 8 (14) J. | F/d\nRegie: Rich
 ard Linklater\nMit: Guillaume Marbeck\, Zoey Deutch\, Aubry Dullin\, Adrie
 n Rouyard\, Antoine Besson\, Jodie Ruth-Forest u.a.\n \nDie Bar öffnet u
 m 19:30 Uhr
LOCATION:Apollo Kulturhaus Kreuzlingen\, Konstanzerstrasse 32\, 8280 Kreuzl
 ingen
DTSTART;TZID=Europe/Zurich:20260528T200000
DTEND;TZID=Europe/Zurich:20260528T200000
ORGANIZER:Filmforum Kreuzlingen und Konstanz (KuK)
END:VEVENT
END:VCALENDAR
