BEGIN:VCALENDAR
VERSION:2.0
PRODID:-//Sabre//Sabre VObject 4.5.8//EN
CALSCALE:GREGORIAN
BEGIN:VEVENT
UID:sabre-vobject-5fff7a47-7321-4c32-86ad-ddeab67a7e12
DTSTAMP:20260421T044004Z
SUMMARY:Max & MArgot verreisen
DESCRIPTION:Max und Margot - er bereits Rentner\, sie kurz vor der Pensioni
 erung - stehen vor einer lästigen Entscheidung: sollen sie am alljährl
 ichen Treffen mit drei befreundeten Paaren - der "Clique" - auch dieses Ja
 hr noch festhalten? Obwohl diese Treffen im Lauf von 40 Jahren an Reiz und
  Frische verloren haben? \nDas Publikum erlebt aus nächster Nähe mit\, 
 wie die beiden um Entscheidungen ringen\, wie sie sich streiten und versö
 hnen\, einander Geheimnisse verraten\, Geständnisse ablegen...\nUnd wohin
  diese Reise sie letzten Endes führen wird. \nCornelia Montani und Joe F
 enner erzählen in witzigen und bösen Dialogen Szenen einer Ehe. Fragt 
 sich noch: was hat Bobby der Hund mit all dem zu tun? 
LOCATION:Theaterwerkstatt Gleis 5\, Lindenstrasse 26a\, 8500 Frauenfeld
DTSTART;TZID=Europe/Zurich:20260503T170000
DTEND;TZID=Europe/Zurich:20260503T181600
ORGANIZER:Theaterwerkstatt Gleis 5
END:VEVENT
END:VCALENDAR
