BEGIN:VCALENDAR
VERSION:2.0
PRODID:-//Sabre//Sabre VObject 4.5.8//EN
CALSCALE:GREGORIAN
BEGIN:VEVENT
UID:sabre-vobject-078fdc7a-7a44-4fbe-9886-61aa308f4a7d
DTSTAMP:20260425T014126Z
SUMMARY:Mikroplastik im Bodensee?
DESCRIPTION:Mikroplastik in unseren Gewässern stellt eine grosse Umweltbed
 rohung dar. Kleine Plastikpartikel\, die weniger als 5 Millimeter gross si
 nd\, gelangen in unsere Gewässer und gefährden die Tierwelt und uns Mens
 chen.\nDoch wie kann Mikroplastik nachgewiesen werden und was können wir 
 dagegen tun? Gemeinsam mit Roman Lehner von Sail &amp\; Explore und Katari
 na Kremer von der Universität Bern gehen die Teilnehmenden diesen Fragen 
 auf den Grund und untersuchen gemeinsam Wasserproben aus dem Bodensee.\\n\
 \nLeitung\\nRoman Lehner\, Founder &amp\; Wissenschaftlicher Leiter Sail a
 nd Explore\\nKatarina Kremer\, Assistenzprofessorin für Sedimentologie an
  der Universität Bern\\n\\nVoraussetzungen für Teilnahme\\nKinder kommen
  in Begleitung einer erwachsenen Person\nAn- und Rückreise:\\nab BHF SG 0
 8:00 Uhr Bus B210 Richtung Arbon\, Bahnhof\\nan Arbon\, Bahnhof Ost 08:36\
 \n\\nca. 15 Minuten Fussweg zum Yachtclub
LOCATION:Yachtclub Arbon\, Adolph-Saurer-Quai 19\, 9320 Arbon
DTSTART;TZID=Europe/Zurich:20260627T090000
DTEND;TZID=Europe/Zurich:20260627T120000
ORGANIZER:WWF Regiobuero AP-SG-TG
END:VEVENT
END:VCALENDAR
