BEGIN:VCALENDAR
VERSION:2.0
PRODID:-//Sabre//Sabre VObject 4.5.8//EN
CALSCALE:GREGORIAN
BEGIN:VEVENT
UID:sabre-vobject-2769a768-6dfb-4e6b-a323-250b8dbf33b0
DTSTAMP:20260425T002227Z
SUMMARY:Micha Aregger in der Kobesenmühle
DESCRIPTION:Micha Aregger (*1976) trifft auf Wilhelm Lehmann (1884–1974).
  Zwei Künstler\, getrennt durch Generationen\, vereint durch ihren tiefen
  Respekt vor der Natur.\nWährend Lehmann in Wurzeln und Ästen schlummern
 de Gestalten entdeckt\, erforscht Aregger die verborgene Ordnung der Natur
  und übersetzt sie in seine eindrucksvollen und geheimnisvollen Objekte.\
 nDie Ehrfurcht vor der Schönheit der Schöpfung\, die beide Künstler ver
 bindet\, wird in Areggers Werken zur sinnlichen Erfahrung. Inmitten der Na
 tur der Kobesenmühle entsteht ein Dialog über Zeiten hinweg.\\n\\nIm Nat
 urgarten wird während den Öffnungszeiten Kaffee &amp\; Kuchen serviert.
  
LOCATION:Kobesenmühle\, Kobesenmüli 60\, 9527 Niederhelfenschwil
DTSTART;TZID=Europe/Zurich:20260705T140000
DTEND;TZID=Europe/Zurich:20260705T170000
ORGANIZER:Kobesenmühle / Stiftung Wilhelm Lehmann
END:VEVENT
END:VCALENDAR
