BEGIN:VCALENDAR
VERSION:2.0
PRODID:-//Sabre//Sabre VObject 4.5.8//EN
CALSCALE:GREGORIAN
BEGIN:VEVENT
UID:sabre-vobject-a75e31f9-b5dc-45d2-98d8-2c7880a9dd55
DTSTAMP:20260421T043858Z
SUMMARY:Ernst Kreidolf und der Kreislauf des Lebens
DESCRIPTION:Letzter Ausstellungstag und letzte Führung: Die Sonderausstell
 ung «Fahrt ins Licht. Ernst Kreidolf und der Kreislauf des Lebens» rück
 t einen weniger bekannten Aspekt in Kreidolfs Werk in den Fokus: die Ausei
 nandersetzung mit dem Tod.\nIn Zeichnungen und Ölgemälden\, aber auch in
  seinen Bilderbüchern spart der Künstler existenzielle Fragen nicht aus.
  Schrecken\, Angst und Trauer stehen der Lauf der Natur\, ein versöhnlich
 er Blick und die Hoffnung auf ein Weiterleben gegenüber. Die Führung gib
 t einen Einblick in die faszinierende Bildwelt Ernst Kreidolfs. 
LOCATION:Museum Rosenegg\, Bärenstrasse 6\, 8280 Kreuzlingen
DTSTART;TZID=Europe/Zurich:20260517T150000
DTEND;TZID=Europe/Zurich:20260517T150000
ORGANIZER:Museum Rosenegg
END:VEVENT
END:VCALENDAR
