BEGIN:VCALENDAR
VERSION:2.0
PRODID:-//Sabre//Sabre VObject 4.5.8//EN
CALSCALE:GREGORIAN
BEGIN:VEVENT
UID:sabre-vobject-7915cfaa-d6c8-4948-bda7-7d85dc8f92aa
DTSTAMP:20260421T082332Z
SUMMARY:Streich-Orchester Musikzentrum
DESCRIPTION:Das «Streichorchester Musikzentrum St. Gallen» bietet allen I
 nstrumentalistinnen und Instrumentalisten die Möglichkeit\, in einem grö
 sseren Klangkörper zu musizieren. Es sind alle Streichinstrumente willkom
 men.\nDie Teilnehmenden erleben:\ndie Freude am mehrstimmigen Zusammenspie
 l\\ndas Erarbeiten unterschiedlicher Literatur mit einer erfahrenen Leiter
 in\\ndas regelmässige Musizieren mit Gleichgesinnten\\nIn erster Linie ma
 cht das Musizieren in einer Gruppe Spass! Die Teilnehmenden lernen auf die
  Mitmusikerinnen und Mitmusiker zu hören\, auf sie zu reagieren und trotz
 dem ihre Stimme zu behaupten.\nDas Orchesterspiel bringt die Teilnehmenden
  auf ihrem Instrument technisch weiter\, fördert ausserdem die soziale Ko
 mpetenz und macht ein Gemeinschaftsgefühl erfahrbar. Es werden bekannte u
 nd unbekannte Kompositionen verschiedener Epochen einstudiert.\nVoraussetz
 ung:\\nDas Repertoire beschränkt sich zu Beginn auf einfachere Kompositio
 nen und Arrangements und ist für alle Instrumentalistinnen und Instrument
 alisten\, die bereits eine Zeit lang Einzelunterricht geniessen\, spielbar
 . Voraussetzungen sind Notenlesen und die Bereitschaft zu üben.\nLeitung:
 \\nAndrea Gass (Violine)
LOCATION:Musikzentrum St. Gallen\, Bahnhofplatz 2\, 9000 St. Gallen
DTSTART;TZID=Europe/Zurich:20260825T190000
DTEND;TZID=Europe/Zurich:20260825T200000
ORGANIZER:Musikzentrum St. Gallen
END:VEVENT
END:VCALENDAR
