BEGIN:VCALENDAR
VERSION:2.0
PRODID:-//Sabre//Sabre VObject 4.5.8//EN
CALSCALE:GREGORIAN
BEGIN:VEVENT
UID:sabre-vobject-191a97aa-965e-4f67-9369-ca93c4a05f0f
DTSTAMP:20260421T044003Z
SUMMARY:Matinée: Lamento und Wunder
DESCRIPTION:In der ungewöhnlichen Doppelbesetzung von zwei Geigen nehmen d
 ie beiden Spezialistinnen für Alte und Neue Musik Juditha Häberlin und H
 annah Weirich das Publikum mit auf eine Expedition durch sechs Jahrhundert
 e Musikgeschichte: Malika Kishinos Klagelied und Lisa Streichs «Wunder» 
 finden ihr historisches Gegenüber in Orlando Gibbons «Fantasie» sowie W
 erken von Georg Philipp Telemann\, Johann Sebastian Bach\, Sergei Prokofie
 v\, György Ligeti\, Ennio Morricone und anderen – ungehörte Klänge\, 
 überraschende Kontraste.  \nMuseum im Anschluss geöffnet.
LOCATION:Museum Rosenegg\, Bärenstrasse 6\, 8280 Kreuzlingen
DTSTART;TZID=Europe/Zurich:20260607T110000
DTEND;TZID=Europe/Zurich:20260607T110000
ORGANIZER:Museum Rosenegg
END:VEVENT
END:VCALENDAR
