BEGIN:VCALENDAR
VERSION:2.0
PRODID:-//Sabre//Sabre VObject 4.5.8//EN
CALSCALE:GREGORIAN
BEGIN:VEVENT
UID:sabre-vobject-2e31784b-80c1-44f3-8ed7-6473d7afc2ed
DTSTAMP:20260424T082712Z
SUMMARY:Resonanz - Doppelausstellung
DESCRIPTION:«Resonanz» steht für die Wechselwirkung zwischen Bild und Be
 trachtenden als auch für die gegenseitige kreative Inspiration der zwei M
 alerinnen im gemeinsamen Atelier.
LOCATION:Galerie Fafou\, Freudenbergstrasse 1\, 9242 Oberuzwil
DTSTART;TZID=Europe/Zurich:20260501T170000
DTEND;TZID=Europe/Zurich:20260501T200000
ORGANIZER:Galerie Fafou
END:VEVENT
END:VCALENDAR
