BEGIN:VCALENDAR
VERSION:2.0
PRODID:-//Sabre//Sabre VObject 4.5.8//EN
CALSCALE:GREGORIAN
BEGIN:VEVENT
UID:sabre-vobject-ed33aad5-d4f9-43b5-8af4-12f3c7f4fee5
DTSTAMP:20260423T103304Z
SUMMARY:Öffentliche Führung in der Eisenbibliothek
DESCRIPTION:Sie ist mit rund 50'000 Einzeltiteln eine der weltweit grösste
 n privaten Spezialbibliotheken im Bereich Technikgeschichte. Die Stiftung 
 Eisenbibliothek wurde 1948 vom Industrieunternehmen Georg Fischer gegründ
 et.\nDie Eisenbibliothek betreut das GF Konzernarchiv\, ein nationales Kul
 turgut. Gemeinsam sind sie Teil der kulturellen\, wirtschafts- und sozialg
 eschichtlichen Überlieferung der Schweiz.\nMit bibliophilen Kostbarkeiten
  wird dieses reiche Erbe einem breiten Publikum auf eindrückliche Weise v
 ermittelt. Über 1000 internationale Gäste nehmen jährlich an den belieb
 ten Führungen und öffentlichen Veranstaltungen teil.
LOCATION:Eisenbibliothek Paradies\, Klostergut Paradies\, 8252 Schlatt
DTSTART;TZID=Europe/Zurich:20260611T140000
DTEND;TZID=Europe/Zurich:20260611T150000
ORGANIZER:Eisenbibliothek
END:VEVENT
END:VCALENDAR
