BEGIN:VCALENDAR
VERSION:2.0
PRODID:-//Sabre//Sabre VObject 4.5.8//EN
CALSCALE:GREGORIAN
BEGIN:VEVENT
UID:sabre-vobject-d8ade06b-42b4-4f3e-a047-953c52149c16
DTSTAMP:20260424T201750Z
SUMMARY:Bernarda Albas Haus
DESCRIPTION:Mit seinem letzten Stück hat der spanische Dichter eine der ei
 ndrucksvollsten Tragödien des 20. Jahrhunderts geschaffen. Die britische 
 Autorin Alice Birch macht aus dem erschütternden Drama um weibliche Unter
 drückung\, verhindertes Begehren und gewalttätige Generationskämpfe ein
 e faszinierend gegenwärtige Bühnenerzählung.\\n\n\\n\nDie Tür ist zu. 
 Für die nächsten acht Jahre darf keine der Frauen das Haus verlassen\, s
 o verlangt es eine Tradition\, die nach dem Tod des Mannes eine Trauerphas
 e dieses Ausmasses anordnet. Die fünf Töchter stehen unter Schock. Ihre 
 Mutter Bernarda Alba setzt die Vorschrift unerbittlich um\, wenn es sein m
 uss\, mit Gewalt. Abgeriegelt von der Welt und eingesperrt mit ihrem Hunge
 r nach Leben\, ihrer stillgelegten Sexualität und dem Begehren nach Freih
 eit und Würde werden die jungen Frauen von Wut gepackt. Bald richten sie 
 den Schmerz gegen sich selbst und alle anderen im Haus\, bis es zur Katast
 rophe kommt.\\n\n\\n\n«Genau getimte Parallelmontagen\, ineinander collag
 ierte Dialoge und exakt choreografierte Zeitlupenszenen machen diesen Aben
 d zu einem grandiosen\, multisensorisch herausfordernden Gesamtkunstwerk.
 » Aus der Jurybegründung für das Berliner Theatertreffen 2025.\\n\n\\n\
 nFür alle ab 16 Jahren.
LOCATION:Theater Winterthur\, Theaterstrasse 6\, 8401 Winterthur
DTSTART;TZID=Europe/Zurich:20260522T193000
DTEND;TZID=Europe/Zurich:20260522T210000
ORGANIZER:Theater Winterthur
END:VEVENT
END:VCALENDAR
