BEGIN:VCALENDAR
VERSION:2.0
PRODID:-//Sabre//Sabre VObject 4.5.8//EN
CALSCALE:GREGORIAN
BEGIN:VEVENT
UID:sabre-vobject-046f51a0-3fce-41ae-83ca-d6f7c1cf1974
DTSTAMP:20260424T200533Z
SUMMARY:Drei Mal Leben
DESCRIPTION:Drei Mal freuen sich Henri und Sonja auf einen ruhigen Abend. D
 rei Mal stehen die Finidoris vor der Tür. Drei Mal läuft der Abend aus a
 nderem Grund völlig aus dem Ruder. Drei Mal guckt das Publikum höchst am
 üsiert zu\, wie der Regisseur mit seinem furios aufspielenden Ensemble au
 fs Glatteis führt.\\n\\nOft wird die Frage gestellt\, ob Ereignisse im Le
 ben auch anders hätten verlaufen können und wir uns womöglich für eine
 n anderen Weg entschieden hätten\, wenn wir die Wahl gehabt hätten. In i
 hrer brillanten Komödie zeigt die französische Dramatikerin drei Version
 en desselben desaströsen Abends zweier Paare in der Mitte des Lebens. Apf
 el statt Keks! Mit diesem Kompromiss versuchen Sonja und Henri ihr plärre
 ndes Kind nach dem abendlichen Zähneputzen in Schach zu halten und nach d
 er Arbeit ein wenig zur Ruhe zu kommen.\nBevor aber Ruhe einkehren könnte
 \, klingelt es. Ines und Hubert Finidori\, Henris Chef und seine Gattin\, 
 stehen überraschend einen Tag zu früh vor der Tür. Was für eine Katast
 rophe! Der Kühlschrank ist leer und man hat es sich auch bereits im Homed
 ress bequem gemacht! Mit ein bisschen Improvisation und möglichst viel Al
 kohol ist der Abend vielleicht noch zu retten.\\n\\nFür alle ab 14 Jahren
 .
LOCATION:Theater Winterthur\, Theaterstrasse 6\, 8401 Winterthur
DTSTART;TZID=Europe/Zurich:20260528T193000
DTEND;TZID=Europe/Zurich:20260528T211500
ORGANIZER:Theater Winterthur
END:VEVENT
END:VCALENDAR
