BEGIN:VCALENDAR
VERSION:2.0
PRODID:-//Sabre//Sabre VObject 4.5.8//EN
CALSCALE:GREGORIAN
BEGIN:VEVENT
UID:sabre-vobject-eea8c9fc-921a-462d-94fe-b73bfc5e33ea
DTSTAMP:20260424T201142Z
SUMMARY:Krabat
DESCRIPTION:Otfried Preusslers längst zum Klassiker avanciertes Jugendbuch
  basiert auf der alten sorbischen Krabat-Sage. Die bildgewaltige Hamburger
  Inszenierung offenbart die Sehnsucht nach Widerstand\, Freiheit\, Selbstb
 estimmung und Liebe des Waisenjungen Krabat.\\n\\nKrieg\, Kälte und Hunge
 r treiben den elternlosen Jungen Krabat umher\, bis ihn rätselhafte Träu
 me zur Schwarzen Mühle führen. Dort beginnt er eine Lehre als Müller 
 – doch der Meister unterweist seine Lehrlinge nicht nur im Handwerk\, so
 ndern auch in dunkler Magie\, die Macht über Mensch und Natur verspricht.
  Bald erkennt Krabat den hohen Preis dieser Macht und hört eine andere St
 imme in sich: den Ruf nach Widerstand\, Freundschaft und Freiheit.\nOtfrie
 d Preusslers eigene Erfahrungen mit Krieg und Diktatur prägen «Krabat».
  Hundert Jahre nach seiner Geburt bleibt die Auseinandersetzung mit autori
 tären Strukturen aktueller denn je – gerade für ein junges Publikum. M
 athias Spaan\, bekannt für seine spielwütigen Inszenierungen\, bringt mi
 t «Krabat» ein bildstarkes und politisches Theaterereignis auf die Bühn
 e.\\n\\n
LOCATION:Theater Winterthur\, Theaterstrasse 6\, 8401 Winterthur
DTSTART;TZID=Europe/Zurich:20260603T190000
DTEND;TZID=Europe/Zurich:20260603T203000
ORGANIZER:Theater Winterthur
END:VEVENT
END:VCALENDAR
