BEGIN:VCALENDAR
VERSION:2.0
PRODID:-//Sabre//Sabre VObject 4.5.8//EN
CALSCALE:GREGORIAN
BEGIN:VEVENT
UID:sabre-vobject-744adba4-093a-4401-9098-f0364a430eb8
DTSTAMP:20260424T202701Z
SUMMARY:Was ihr wollt
DESCRIPTION:«Ich wünschte\, du wärst so\, wie ich dich haben will.» Zum
  Saisonabschluss wird als Koproduktion mit dem Thalia Theater Hamburg eine
  neue Regiearbeit von Anne Lenk gezeigt\, deren Inszenierung von «Der Men
 schenfeind» aus dem Deutschen Theater Berlin dem Winterthurer Publikum no
 ch in Erinnerung ist.\\n\\nEin Mann liebt eine Frau\, die er noch nie gese
 hen hat. Diese Frau liebt wiederum einen Mann\, der sich nur als solcher a
 usgibt und ansonsten eine Frau ist. Jene Frau liebt ersteren Mann\, der ab
 er glaubt\, sie sei ein Mann. Dieses Liebeschaos vollzieht sich in Illyrie
 n\, einem wundersamen Ort am Meer\, bevölkert von egozentrischen und när
 rischen Seelen.\nDoch wer glaubt\, die Liebe suche ihr Gegenüber\, irrt. 
 Das Zentrum der Liebe ist zumeist deroder diejenige selbst. Die Liebe? Sel
 bstrettung und Heilmittel für die wunde Seele. Doch eine gibt’s\, die a
 nders ist\, die Herzen aufweckt und Identitäten erweitert. Anne Lenk\, da
 s Orchester im Treppenhaus und das Ensemble machen sich auf\, die Möglich
 keiten der Liebe zu befragen\, in einer Welt\, die sie verloren zu haben s
 cheint.
LOCATION:Theater Winterthur\, Theaterstrasse 6\, 8401 Winterthur
DTSTART;TZID=Europe/Zurich:20260612T193000
DTEND;TZID=Europe/Zurich:20260612T193000
ORGANIZER:Theater Winterthur
END:VEVENT
END:VCALENDAR
