BEGIN:VCALENDAR
VERSION:2.0
PRODID:-//Sabre//Sabre VObject 4.5.8//EN
CALSCALE:GREGORIAN
BEGIN:VEVENT
UID:sabre-vobject-71522d63-bc55-4b98-89bf-05f8b799954a
DTSTAMP:20260421T070647Z
SUMMARY:Die Kleine Laterne Romanshorn. Kino für Kleine
DESCRIPTION:Die Kleine Laterne wurde vom Kinderfilmklub Die Zauberlaterne l
 anciert und bietet Kindern von vier bis sechs Jahren in Begleitung ihrer E
 ltern die Möglichkeit\, auf innovative Weise das Medium Film und den Kino
 saal kennenzulernen.\\n\n\\n\nWas gibt es Schöneres\, als sein Kind bei s
 einem ersten Kinobesuch begleiten zu dürfen und mitzuerleben\, wie es sta
 unt\, empfindet und nachdenkt! Die Kleine Laterne richtet sich an die jün
 gsten Kinder und macht sie behutsam mit Filmen auf der grossen Leinwand ve
 rtraut. Bei der Kleinen Laterne wird besonders auf die Sensibilitäten kle
 iner Kinder Rücksicht genommen. Die Vorgehensweise erfolgt auf Augenhöhe
  der Kinder\, ist aber durchaus auch für die erwachsenen Begleiterinnen u
 nd Begleiter interessant.\\n\n\\n\nDiese erste Einführung in den Film sie
 ht sechs Vorstellungen im Zeitraum von zwei Jahren vor\, also drei pro Jah
 r. Jede Vorstellung ist einem Thema gewidmet\, wie beispielsweise der Film
 musik\, der Diversität des weltweiten Filmschaffens\, dem Umgang mit star
 ken Emotionen oder unterschiedlichen Filmtechniken.
LOCATION:Kino Roxy\, Salmsacherstrasse 1\, 8590 Romanshorn
DTSTART;TZID=Europe/Zurich:20260425T103000
DTEND;TZID=Europe/Zurich:20260425T103000
ORGANIZER:Zauberlaterne
END:VEVENT
END:VCALENDAR
