BEGIN:VCALENDAR
VERSION:2.0
PRODID:-//Sabre//Sabre VObject 4.5.8//EN
CALSCALE:GREGORIAN
BEGIN:VEVENT
UID:sabre-vobject-39bcf953-3967-42c7-9067-c95ff7230879
DTSTAMP:20260421T070622Z
SUMMARY:Jahresschlussvorstellung der Begabtenförderung Tanz Thurgau
DESCRIPTION:Seit über 10 Jahren begleitet die Musikschule Weinfelden junge
  Tänzerinnen und Tänzer aus dem Thurgau auf ihrem Weg zur professionelle
 n Tanzausbildung.\nIn der Jahresschlussvorstellung zeigen die Schülerinne
 n und Schüler der Begabtenförderung Tanz Thurgau ihre erarbeiteten Chore
 ografien. Die jungen Menschen begeistern mit ihren Choreografien in den ve
 rschiedensten Tanzstilen. Von Ballett über Contemporary bis hin zu Flamen
 co zeigen sie ihre Freude am Tanzen und überzeugen mit verschiedensten Be
 wegungsqualitäten.\nKasse und Bar ab 30 Uhr.
LOCATION:Theaterhaus Thurgau\, Lagerstrasse 3\, 8570 Weinfelden
DTSTART;TZID=Europe/Zurich:20260627T171500
DTEND;TZID=Europe/Zurich:20260627T190000
ORGANIZER:Theaterhaus Thurgau (Fremdveranstaltung)
END:VEVENT
END:VCALENDAR
