BEGIN:VCALENDAR
VERSION:2.0
PRODID:-//Sabre//Sabre VObject 4.5.8//EN
CALSCALE:GREGORIAN
BEGIN:VEVENT
UID:sabre-vobject-94c37066-2746-4829-9495-a4f3bd7a8319
DTSTAMP:20260421T070648Z
SUMMARY:Frau Hölle: pechschwarze Wahrheiten und goldene Lügen
DESCRIPTION:Ein Märchen erwacht neu: In unserer modernen Welt\, in der all
 es immer schneller wird\, in der Likes und Noten oft wichtiger scheinen al
 s echte Gefühle\, trifft die alte Geschichte von «Frau Holle» auf die G
 egenwart. Zwei Schwestern – die eine fleissig\, die andere bequem – st
 ehen stellvertretend für unsere heutigen Gegensätze: Leistungsdruck und 
 Selbstfürsorge\, Ehrgeiz und Überforderung\, Schein und Sein.\nIn eindru
 cksvollen Bildern\, kraftvollen Bewegungen und mit selbst entwickelten Fig
 uren\, Texten und Choreografien erzählen die Schülerinnen und Schüler i
 hre Version des Märchens.\\n«Frau Hölle» ist ein Tanztheater über das
  «Fallen und Aufstehen»\, über «Glitzer und Gold»\, über «Mensch un
 d Natur»\, über «digitale Welten» und «echtes Leben».\nKasse und Bar
  ab 30 Minuten vor Spielbeginn.
LOCATION:Theaterhaus Thurgau\, Lagerstrasse 3\, 8570 Weinfelden
DTSTART;TZID=Europe/Zurich:20260621T161500
DTEND;TZID=Europe/Zurich:20260621T180000
ORGANIZER:Theaterhaus Thurgau (Fremdveranstaltung)
END:VEVENT
END:VCALENDAR
