BEGIN:VCALENDAR
VERSION:2.0
PRODID:-//Sabre//Sabre VObject 4.5.8//EN
CALSCALE:GREGORIAN
BEGIN:VEVENT
UID:sabre-vobject-2ea4c57c-9f64-4afe-a824-31e986f7c44a
DTSTAMP:20260421T070621Z
SUMMARY:Theaterwerkstatt Erwachsene - Sieben Frauen und ein Kahn
DESCRIPTION:Seit Corona treffen sich die sieben Frauen des Buchclubs ledigl
 ich online. Nun will man sich endlich persönlich kennenlernen. Man beschl
 iesst\, spontan gemeinsam zu verreisen. Da kommt man sich schliesslich nä
 her und kann dabei auch noch kultiviert diskutieren.\nDie Idee wird schnel
 l in die Tat umgesetzt und alle treffen sich am Zürcher Flughafen\, um na
 ch Ägypten zu reisen: auf den Spuren von Agatha Christis «Tod auf dem Ni
 l». Die Damen kennen von ihrer Gegenüber bisher nur das Gesicht. Wenn da
 nn plötzlich der ganze Mensch privat vor einem steht\, ist das was ganz a
 nderes.\nDie Reise entpuppt sich als ziemliche Herausforderung. Am Nil wir
 d es dann konkret: Wie lassen sich sieben Frauen auf drei kleine Schiffska
 binen verteilen? Sprich\; wer von den Damen schläft im Zustellbett?\nKass
 e und Bar ab 19.15 Uhr.
LOCATION:Theaterhaus Thurgau\, Lagerstrasse 3\, 8570 Weinfelden
DTSTART;TZID=Europe/Zurich:20260529T201500
DTEND;TZID=Europe/Zurich:20260529T220000
ORGANIZER:Theater Bilitz
END:VEVENT
END:VCALENDAR
