BEGIN:VCALENDAR
VERSION:2.0
PRODID:-//Sabre//Sabre VObject 4.5.8//EN
CALSCALE:GREGORIAN
BEGIN:VEVENT
UID:sabre-vobject-a505c443-c426-4c74-9c0b-898181405fcb
DTSTAMP:20260421T043856Z
SUMMARY:Dinge\, die niemand mehr kennt
DESCRIPTION:Fast drei Jahrzehnte hat der Historiker und Volkskundler Peter 
 Bretscher als Sammlungskurator das Schaudepot St. Katharinental des Histor
 ischen Museums Thurgau aufgebaut und geleitet.\n«Ich konnte hier eine Vis
 ion realisieren\, das war nicht irgendein Job. Das ist ein Teil von mir»\
 , erklärte er 2021 angesichts seines bevorstehenden Abschieds Thurgaukult
 ur.\nInsgesamt zehn Jahre hat er an einem über die Schweiz hinaus beispie
 llosen Lexikon gearbeitet: ein fünfbändiges Werk\, 2025 online publizier
 t\, das auf über 4600 Seiten rund 3000 Objekte vorstellt\, von denen viel
 e heute niemand mehr kennt.\nIn seinem Vortrag schildert der «Chronist de
 s ländlichen Kulturguts» aus seiner reichen Erfahrung\, vor welchen Hera
 usforderungen viele Museen mit ihren überlieferten\, oft nur zum Teil ers
 chlossenen Sammlungen stehen und wie er noch heute manches kuriose Rätsel
  lösen hilft.\nEine Veranstaltung im Rahmen der Sonderausstellung «Unerh
 ört unerforscht». 
LOCATION:Museum Rosenegg\, Bärenstrasse 6\, 8280 Kreuzlingen
DTSTART;TZID=Europe/Zurich:20260602T190000
DTEND;TZID=Europe/Zurich:20260602T190000
ORGANIZER:Museum Rosenegg
END:VEVENT
END:VCALENDAR
