BEGIN:VCALENDAR
VERSION:2.0
PRODID:-//Sabre//Sabre VObject 4.5.8//EN
CALSCALE:GREGORIAN
BEGIN:VEVENT
UID:sabre-vobject-0c22ed60-2aac-4826-ac3a-515253aa37b5
DTSTAMP:20260420T231523Z
SUMMARY:Musical-Tour 2026 "Rahab"
DESCRIPTION:22 Adonia-Teens-Chöre bereiten sich während drei Tagen an ver
 schiedenen Orten der Schweiz auf die Tour vor. Einer der Chöre gastiert i
 n Kaltenbach TG.\\n\\nZum Musical: Im Schatten der imposanten Mauern von J
 ericho führt Rahab ein trosloses Leben. Als sich zwei Besucher:innen ihre
 s Gasthofs als gesuchte israelitische Spione entpuppen\, schöpft sie Hoff
 nung. Vielleicht kann der Gott ihrer Gäste sie aus ihrem traurigen Dasein
  retten? Doch diese Hoffnung stellt Rahab vor eine folgenschwere Entscheid
 ung. Mit packender Musik\, eindrücklichen Theaterszenen und einer Botscha
 ft voller Mut\, Liebe und Sehnsucht erzählt das Musical die Geschichte ei
 ner der faszinierendsten Figuren der Bibel - bewegend\, ehrlich und überr
 aschend aktuell.
LOCATION:Turnhalle Kaltenbach\, Schulhaus 1\, 8259 Kaltenbach
DTSTART;TZID=Europe/Zurich:20260423T200000
DTEND;TZID=Europe/Zurich:20260423T200000
ORGANIZER:Viva-Kirche Stein am Rhein
END:VEVENT
END:VCALENDAR
