BEGIN:VCALENDAR
VERSION:2.0
PRODID:-//Sabre//Sabre VObject 4.5.8//EN
CALSCALE:GREGORIAN
BEGIN:VEVENT
UID:sabre-vobject-f0a8daed-4c34-4b27-a766-efbdabbb111c
DTSTAMP:20260425T034942Z
SUMMARY:Biber - Baumeister der Natur
DESCRIPTION:Auf dieser Exkursion erfahren Gross und Klein\, wieso der Biber
  als Holzfäller gilt und wie er in seinem Bau haust. Durch die verschiede
 nen Biberspuren\, welche man am Saubach findet\, tauchen die Teilnehmenden
  ab in die Welt des Baumeisters. Es werden seine sozialen Verhaltens- und 
 Lebensweisen aufgezeigt und verschiedenen Fragen auf die Spur gegangen. Wa
 s ist Bibergail und wieso war es früher so beliebt? Welche Funktion erfü
 llt die Kelle (Schwanz des Bibers)?\\n\\nAuf dieser Exkursion erfahren die
  Teilnehmenden\, warum dieses scheue Tier gefährdet ist und aus welchen G
 ründen es vor ein paar Jahren fast ausgerottet wurde.\nAn- und Rückreise
 :\\nab SG BHF 09:15 Uhr Gl. 5 RE1 Richtung Konstanz\\nan Kreuzlingen 09:56
  Uhr
LOCATION:Bahnhof (bei den Parkplätzen)\, 8280 Kreuzlingen
DTSTART;TZID=Europe/Zurich:20261212T100000
DTEND;TZID=Europe/Zurich:20261212T120000
ORGANIZER:WWF Regiobuero AP-SG-TG
END:VEVENT
END:VCALENDAR
