BEGIN:VCALENDAR
VERSION:2.0
PRODID:-//Sabre//Sabre VObject 4.5.8//EN
CALSCALE:GREGORIAN
BEGIN:VEVENT
UID:sabre-vobject-47c968c1-a39a-49cf-8927-71200b30c7ee
DTSTAMP:20260420T200148Z
SUMMARY:Vom Apfel zum Saft
DESCRIPTION:Mit einer Mundartgeschichte vom Apfelbaum im Pausenhof tauchen 
 die jungen Musemsgäste in eine Zeit ein\, als Äpfel zum Znüni\, Zmittag
  und Znacht einfach dazugehörten.\nDas macht Lust\, die originalen Gerät
 e für die Obstverarbeitung im Schaudepot St. Katharinental gemeinsam zu e
 rkunden und auszuprobieren. Als krönender Abschluss messen sich die Teiln
 ehmenden beim Apfelschälen mittels alter Maschinen und pressen unter Anle
 itung ihren eigenen Saft. Ob der wohl besser schmeckt als das Pendant aus 
 dem Discounter?\\n\\nmit Katharina Ebneter\, Kulturvermittlerin
LOCATION:Schaudepot St. Katharinental\, Franzosenstrasse\, 8253 Diessenhofe
 n
DTSTART;TZID=Europe/Zurich:20261018T140000
DTEND;TZID=Europe/Zurich:20261018T160000
ORGANIZER:Historisches Museum Thurgau
END:VEVENT
END:VCALENDAR
