BEGIN:VCALENDAR
VERSION:2.0
PRODID:-//Sabre//Sabre VObject 4.5.8//EN
CALSCALE:GREGORIAN
BEGIN:VEVENT
UID:sabre-vobject-5d4110b6-5a4f-4fe1-9482-0787e8424018
DTSTAMP:20260424T202701Z
SUMMARY:Stress
DESCRIPTION:Mit «How To Heal» präsentiert Stress die erste neue Single s
 eit seinem MTV Unplugged Erfolg. Andres Andrekson lässt im neuen Song lyr
 isch tief blicken\, zeigt sich musikalisch leichtfüssig frisch und vollen
 det das neue Werk mit einem erfrischenden Optimismus. Diesen Optimismus ni
 mmt Stress mit auf die Bühne und lädt zu seinem neuen Showkonzept ein.\\
 n\n\\n\nAuf seiner Tour verbindet der Schweizer Ausnahmekünstler seine ge
 wohnt energiegeladene Performance mit Late-Night-Elementen: persönliche G
 eschichten\, spontane Momente\, humorvolle Akzente und musikalische Überr
 aschungen verschmelzen zu einem Abend\, der weit tiefer gründet als ein k
 lassisches Konzerterlebnis.\\n\n\\n\nBekannte Hits\, Songs vom neuen Album
  und die unverkennbare Energie von Stress machen jede Show einzigartig. Ma
 l emotional\, mal humorvoll\, mal überraschend\; jeder Abend erzählt sei
 ne eigene Geschichte. Präsentiert vom Salzhaus und dem Theater Winterthur
 .
LOCATION:Theater Winterthur\, Theaterstrasse 6\, 8401 Winterthur
DTSTART;TZID=Europe/Zurich:20261127T200000
DTEND;TZID=Europe/Zurich:20261127T200000
ORGANIZER:Theater Winterthur
END:VEVENT
END:VCALENDAR
