BEGIN:VCALENDAR
VERSION:2.0
PRODID:-//Sabre//Sabre VObject 4.5.8//EN
CALSCALE:GREGORIAN
BEGIN:VEVENT
UID:sabre-vobject-dbbe3a41-2b9b-4648-8b6c-71e6c2faab2e
DTSTAMP:20260425T002226Z
SUMMARY:Schlaraffia - Die Wein- & Genussmesse im Thurgau
DESCRIPTION:Jeweils im März wird Weinfelden zum beliebten Treffpunkt. Degu
 stieren\, neue Produkte kennen lernen\, interessante Leute treffen: Das er
 wartet die Besucher:innen an der Schlaraffia\, der Wein- und Genussmesse i
 n der Ostschweiz. Geniessen mit allen Sinnen ist das Motto – Neuste Food
 -Trends entdecken\, traditionelle Spezialitäten (wieder)-entdecken oder e
 dle Tropfen degustieren.\\n\\nHighlights\\n- Edle Weine und Spezialitäten
  aus der Schweiz und der ganzen Welt\\n- Rund 140 Aussteller in zwei Ausst
 ellungshallen\\n- Feine Delikatessen aller Art im Gourmetmarkt\\n- Spezial
 itäten und regionale Produkte aus dem Thurgau\\n- Accessoires rund um das
  geschmackvolle Essen\\n- Spannende Kochshows in der Schlaraffia-Showküch
 e\\n- Schlaraffia-Kids: Workshops für Kinder (Sa/So)
LOCATION:Weinfelden TG\, Zentrum\, 8570 Weinfelden
DTSTART;TZID=Europe/Zurich:20270312T000000
DTEND;TZID=Europe/Zurich:20270312T000000
ORGANIZER:TICKETINO AG
END:VEVENT
END:VCALENDAR
