BEGIN:VCALENDAR
VERSION:2.0
PRODID:-//Sabre//Sabre VObject 4.5.8//EN
CALSCALE:GREGORIAN
BEGIN:VEVENT
UID:sabre-vobject-14bf0b38-8d28-4e52-a3fa-e7b54966b666
DTSTAMP:20260421T154509Z
SUMMARY:Dernière Konzert mit Trio Ambiente
DESCRIPTION:Das Dernière Konzert bildet den Abschluss zur Kunstausstellung
  von Anna-Maria Bauer aus Zürich und Monika Laib mit Team aus Amriswil. D
 ie Kunstinstallation bietet eine die Sinne anregende Möglichkeit\, in Ruh
 e über das fundamentale Thema der menschlichen Existenz\, über die Gebur
 t\, den Tod und über das Leben dazwischen\, nachzudenken.\nKonzert: Die E
 igenkompositionen von Thomas Kräuchi für das Trio Ambiente thematisieren
  fundamentale Aspekte des Lebens\, insbesondere Stimmungen wie Euphorie\, 
 Trauer\, Fernweh\, Naturverbundenheit und mehr. Gemütszustände eignen si
 ch besonders gut für den musikalische Ausdruck.\nAusführende: Julia Krä
 uchi\, Violine Rahel Zellweger\, Viola Thomas Kräuchi\, Klavier\nTüröff
 nung und Tageskasse: 18.30 Uhr \\nKonzertbeginn:19.00 Uhr
LOCATION:Kulturforum Amriswil\, Bahnhofstrasse 22 22\, 8580 Amriswil
DTSTART;TZID=Europe/Zurich:20260607T190000
DTEND;TZID=Europe/Zurich:20260607T200000
ORGANIZER:Amriswiler Konzerte
END:VEVENT
END:VCALENDAR
