BEGIN:VCALENDAR
VERSION:2.0
PRODID:-//Sabre//Sabre VObject 4.5.8//EN
CALSCALE:GREGORIAN
BEGIN:VEVENT
UID:sabre-vobject-783882bf-edfe-47dc-adfe-c23bfe048dd2
DTSTAMP:20260421T081939Z
SUMMARY:Der Rebberg «Hörnliberg»
DESCRIPTION:Die «Arbeitsintegration Kreuzlingen» ist für die Bewirtschaf
 tung der Reben verantwortlich und produziert einen Bio-Rotwein und Bio-Wei
 sswein in viel Handarbeit. Ein Rundgang durch den Rebberg vermittelt Einbl
 ick in den Weinbau der Ostschweiz: Von der Traube bis zur Flasche\, über 
 die Herausforderungen des Anbaus in unseren Klimazonen und die Bedeutung v
 on Bio-Wein. Die Veranstaltung endet mit einer Degustation der Weine – a
 us einer Region\, die sich vom unterschätzten Gebiet zum klimatisch privi
 legierten Anbauort entwickelt hat.\\n\\nLeitung: Stefan Luginbühl\, Leite
 r Arbeitsintegration\n 
LOCATION:Eingang Eisentor Seeburgpark\, Promenadenstrasse\, 8280 Kreuzlinge
 n
DTSTART;TZID=Europe/Zurich:20260505T183000
DTEND;TZID=Europe/Zurich:20260505T200000
ORGANIZER:Stadt Kreuzlingen
END:VEVENT
END:VCALENDAR
