BEGIN:VCALENDAR
VERSION:2.0
PRODID:-//Sabre//Sabre VObject 4.5.8//EN
CALSCALE:GREGORIAN
BEGIN:VEVENT
UID:sabre-vobject-3a0edbb4-af6c-4fa4-a952-5bc2ae53ec31
DTSTAMP:20260425T014126Z
SUMMARY:TmbH – die Impro-Show
DESCRIPTION:Spiel\, Spaß\, Spannung und jede Menge überraschende Wendunge
 n\, die den Vogel aus dem Häuschen kloppen werden! Gespielt wird Impro oh
 ne Netz und doppelten Boden. Benötigt werden ein gut gelauntes Publikum m
 it klaren Vorgaben\, eine leere Bühne und Fantasie – dann wird alles m
 öglich: ängstliche Superhelden\, durchtriebene Präsidenten\, anpassungs
 fähige Außerirdische und vieles mehr\, was vorstellbar ist. Klingt ungew
 öhnlich? Die Show bietet Gelegenheit\, sich selbst ein Bild zu machen.
LOCATION:K9 Kulturzentrum\, Hieronymusgasse 3\, 78462 Konstanz
DTSTART;TZID=Europe/Zurich:20261113T200000
DTEND;TZID=Europe/Zurich:20261113T223000
ORGANIZER:K9 Kulturzentrum
END:VEVENT
END:VCALENDAR
